Workbook

Sheet Description
A2: [Company Name]
A3: Competency Model for Advanced Manufacturing Occupation: Machinist/ Computer Numerical Control (CNC) Operator Dual-Training Program for
A4: [Employee Name]
A5: Machinist/ Computer Numerical Control (CNC) Operator – An individual who operates CNC machines to shape metal or plastic parts. Responsibilities include interpreting blueprints and manuals, setting up equipment, selecting and loading cutting tools, and inspecting parts during production. They measure and mark materials, perform basic machine maintenance, and ensure safety by wearing protective gear. They also check tool sharpness and detect malfunctions using precision instruments like micrometers and calipers. *Pipeline recommends the Industry-Sector Technical Competencies as formal training opportunities (provided through related instruction) and the Occupation-Specific Competencies as on-the-job (OJT) training opportunities.
A7: Training Start Date:
A8: Anticipated Completion Date:
A10: Prepared By: | C10: [Name]
A11: Position: | C11: [Title]
A12: Email: | C12: [x@y.com]
A13: Phone: | C13: [(xxx) xxx-xxxx]
A14: Current Date: | C14: =TODAY() -> 46000

Sheet Related Instruction
A2: =Description!A2 -> [Company Name]
A3: Competency Model for Advanced Manufacturing Occupation: Machinist/Computer Numerical Control (CNC) Operator
A4: Related Instruction for dual training means the organized and systematic form of education resulting in the enhancement of skills and competencies related to the dual trainee’s current or intended occupation.
A5: Employee Name: | C5: =Description!A4 -> [Employee Name] | H5: Date: | I5: =Description!C14 -> 46000
A6: Anticipated Completion Date:
A8: Related Instruction
A10: Related Instruction Competencies | B10: Course Name | C10: Course Description | D10: # of Credits | E10: Start Date | F10: Anticipated End Date | G10: Weeks Completed | H10: Weeks Required | I10: % Complete
A11: Machining introduction – Learn basic machining operations including safety, MSDS, measuring tools and use of drill presses and band saws. | B11: Course 1 Name | C11: Course 1 description | E11: [type date] | F11: [type date] | G11: 0 | H11: 1 | I11: =(G11/H11)*100 -> 0
A12: Blueprint reading – Knowledge in reading and understanding industrial prints. | B12: Course 2 Name | C12: Course 2 description | E12: [type date] | F12: [type date] | G12: 0 | H12: 1 | I12: =(G12/H12)*100 -> 0
A13: Shop math and measurement – Training in basic math including linear measurement, metrics and beginning algebra. | B13: Course 3 Name | C13: Course 3 description | E13: [type date] | F13: [type date] | G13: 0 | H13: 1 | I13: =(G13/H13)*100 -> 0
A14: CNC turning – Training in how to operate a lathe including types of chucks, cutting tools, speeds and feeds, tool care, threads, part production and general inspection. | B14: Course 4 Name | C14: Course 4 description | E14: [type date] | F14: [type date] | G14: 0 | H14: 1 | I14: =(G14/H14)*100 -> 0
A15: CNC milling – Learn mill operation including clamping, tools and holders, speeds and feeds, cutting depths/width along with direction. | B15: Course 5 Name | C15: Course 5 description | E15: [type date] | F15: [type date] | G15: 0 | H15: 1 | I15: =(G15/H15)*100 -> 0
A16: CNC setup and programming basics – Exposure to manual programming of Computer Numerical Control (CNC) machine tools. Learn types of CNC controls, machinery, programming formats and basic terminology. | B16: Course 6 Name | C16: Course 6 description | E16: [type date] | F16: [type date] | G16: 0 | H16: 1 | I16: =(G16/H16)*100 -> 0
A17: Machine tool theory – Learn to complete the processes required for manufacturing a precision part, use standard shop safety practices, set-up and operate standard manufacturing machines, complete accurate lay-outs, explain applications of hand tools and use correctly and use basic measuring tools. | B17: Course 7 Name | C17: Course 7 description | E17: [type date] | F17: [type date] | G17: 0 | H17: 1 | I17: =(G17/H17)*100 -> 0
A18: Molding – Understand the fundamentals of injection molding technology. | B18: Course 8 Name | C18: Course 8 description | E18: [type date] | F18: [type date] | G18: 0 | H18: 1 | I18: =(G18/H18)*100 -> 0
A19: Metallurgy – Know the basic principles of metals, the behavior of metals and the processes which affect them, as well as the most common metals used in industrial processes. | B19: Course 9 Name | C19: Course 9 description | E19: [type date] | F19: [type date] | G19: 0 | H19: 1 | I19: =(G19/H19)*100 -> 0
A20: Inspection – Know the proper methods and instruments used to effectively inspect parts in the shop, including using instruments such as the caliper, micrometer, and CMM. | B20: Course 10 Name | C20: Course 10 description | E20: [type date] | F20: [type date] | G20: 0 | H20: 1 | I20: =(G20/H20)*100 -> 0
D22: Overall Progress: | G22: =SUM(G16:G21) -> 0 | H22: =SUM(H11:H21) -> 10 | I22: =(G22/H22)*100 -> 0

Sheet OJT
A2: =Description!A2 -> [Company Name]
A3: Competency Model for Advanced Manufacturing Occupation: Machinist/Computer Numerical Control (CNC) Operator
A4: On-the-Job-Training (OJT) is hands-on instruction completed at work to learn the core competencies necessary to succeed in an occupation. Common types of OJT include job shadowing, mentorship, cohort-based training, assignment-based project evaluation and discussion-based training.
A6: Employee Name: | C6: =Description!A4 -> [Employee Name] | G6: Date: | H6: =Description!C14 -> 46000
A7: Anticipated Completion Date:
A9: On-the-Job Training
A11: Specific Competencies | B11: Trainer | C11: Mode of OJT | D11: Start Date | E11: Completion Date | F11: Hours Completed | G11: Hours Required | H11: % Complete
A12: Demonstrate general housekeeping and maintenance – Demonstrate the ability to maintain tools and machinery with basic cleaning and maintenance procedures. | B12: Name | D12: [type date] | E12: [type date] | F12: 0 | G12: 1 | H12: =(F12/G12)*100 -> 0
A13: Initiate preventative maintenance / tooling maintenance – Practice industry approved procedures for conducting preventative maintenance on machines and tools. | B13: Name | D13: [type date] | E13: [type date] | F13: 0 | G13: 1 | H13: =(F13/G13)*100 -> 0
A14: Perform bench work and operate hand tools – Knowledge of the various tools, methods, and procedures for common machine shop benchwork and hand tool work. | B14: Name | D14: [type date] | E14: [type date] | F14: 0 | G14: 1 | H14: =(F14/G14)*100 -> 0
A15: Level 1 Machinist
A16: Perform manual milling – Display basic operation of the vertical and horizontal milling machines and the ability to use cutting tools and holders, setups, spindles and arbors, work holding methods. | B16: Name | D16: [type date] | E16: [type date] | F16: 0 | G16: 1 | H16: =(F16/G16)*100 -> 0
A17: Understand turning operations – Demonstrate basic lathe applications such as understanding turning safety, calculating speeds and feeds, using various tools and tool holders, identifying basic tool geometry, and the use of common lathe spindle tooling. | B17: Name | D17: [type date] | E17: [type date] | F17: 0 | G17: 1 | H17: =(F17/G17)*100 -> 0
A18: Demonstrate grinding skills – Use surface grinders with proper set up techniques and grinding processes. | B18: Name | D18: [type date] | E18: [type date] | F18: 0 | G18: 1 | H18: =(F18/G18)*100 -> 0
A19: Demonstrate CNC turning – Demonstrate CNC lathe operations, control functions, the letter address system, the program format, and machine setup. | B19: Name | D19: [type date] | E19: [type date] | F19: 0 | G19: 1 | H19: =(F19/G19)*100 -> 0
A20: Demonstrate CNC milling – Demonstrates the fundamentals of CNC machining processes with skills in work holding, speeds and feeds for various materials and functions and capabilities of CNC machining tools. | B20: Name | D20: [type date] | E20: [type date] | F20: 0 | G20: 1 | H20: =(F20/G20)*100 -> 0
A21: Implement inspection practices – Demonstrate the proper methods and instruments used to effectively inspect parts in the shop, including using instruments such as the caliper, micrometer, and CMM. | B21: Name | D21: [type date] | E21: [type date] | F21: 0 | G21: 1 | H21: =(F21/G21)*100 -> 0
A22: Level 2 Machinist
A23: Perform advanced manual milling – Use mill for advanced techniques such as squaring a block, perform angle layouts with various methods including a sign bar. Perform simple key seat and slotting operations. | B23: Name | D23: [type date] | E23: [type date] | F23: 0 | G23: 1 | H23: =(F23/G23)*100 -> 0
A24: Understand advanced turning – Ability to operate lathe for advanced processes such as form radius, single-point isometric threads, turn spherical radius, use a radius gauge, as well as advanced taper techniques and work support devices. | B24: Name | D24: [type date] | E24: [type date] | F24: 0 | G24: 1 | H24: =(F24/G24)*100 -> 0
A25: Demonstrate advanced grinding skills – Demonstrate advanced techniques of grinding including use of sine bars and chucks, sine bars, gage blocks, wheel balancers, various grinding wheels and diamond dressers. | B25: Name | D25: [type date] | E25: [type date] | F25: 0 | G25: 1 | H25: =(F25/G25)*100 -> 0
A26: Perform advanced CNC turning – Able to perform advanced techniques of CNC lathe including turning with an offset talk stock and boring functions. | B26: Name | D26: [type date] | E26: [type date] | F26: 0 | G26: 1 | H26: =(F26/G26)*100 -> 0
A27: Perform advanced CNC milling – Use advanced techniques of setting-up and operating CNC milling machines including principles of clamping and locating work piece, selection of cutting tools and holders along with use of rotary tables. Demonstrate pocketing slotting and key seat techniques as well as edging techniques. | B27: Name | D27: [type date] | E27: [type date] | F27: 0 | G27: 1 | H27: =(F27/G27)*100 -> 0
A28: Demonstrate EDM–Wire/plunge –Know how to prepare, operate, and maintain the wire EDM machine. Create basic G-code without the use of CAM software. | B28: Name | D28: [type date] | E28: [type date] | F28: 0 | G28: 1 | H28: =(F28/G28)*100 -> 0
A29: Perform advanced inspection – Able to use measuring instruments relating to state-of-the-art manufacturing environments, such as coordinate measuring machine and calibration. Understanding of Quality Control, TQM, and SPC processes as they relate to manufacturing environments. | B29: Name | D29: [type date] | E29: [type date] | F29: 0 | G29: 1 | H29: =(F29/G29)*100 -> 0
C31: Overall Progress: | F31: =SUM(F12:F30) -> 0 | G31: =SUM(G12:G30) -> 16 | H31: =(F31/G31)*100 -> 0

Sheet Troubleshooting
A2: Instructions
A3: Start by filling out the information on the "Description" tab, some of that information will trickle to the other tabs of the workbook.
A4: Each tab of the workbook is protected. If you want to change any of the information, click on Review > Unprotect Sheet in the menu bar. You can then change any of the information on that tab.
A5: If the % complete cells no longer calculate correctly, the proper formula is =(F12/G12)*100 (the number inside the parenthesis should reflect the row that the formula is on, F and G are the columns on the OJT tab, columns are G and H on the other tabs). The % Complete cells have conditional formatting applied (solid progress bars). To edit the conditional formatting, click on Home > Conditional Formatting. The proper settings for the conditional formatting is shown below.
A28: If you are using the Cohort spreadsheet to view multiple employees, make sure all of the spreadsheets are in the same directory. If you see #ref! error, close and open the Cohort spreadsheet again. The values in the Cohort spreadsheet are referenced from the individual employee spreadsheets.
A29: References are created the same whether you are referencing information inside the same workbook, or between two different workbooks. A. Click in the cell where you want the reference to occur. B. Click on the = key. C. Navigate to the cell you want to reference and click it. If the cell is in another workbook, open the workbook and click on the desired cell. D. Click Enter. You should jump back to your original cell and see the referenced value in that cell.
